BEGIN:VCALENDAR
VERSION:2.0
PRODID:-//Hardt Ranch - ECPv6.15.20//NONSGML v1.0//EN
CALSCALE:GREGORIAN
METHOD:PUBLISH
X-WR-CALNAME:Hardt Ranch
X-ORIGINAL-URL:https://hardt-ranch.de
X-WR-CALDESC:Veranstaltungen für Hardt Ranch
REFRESH-INTERVAL;VALUE=DURATION:PT1H
X-Robots-Tag:noindex
X-PUBLISHED-TTL:PT1H
BEGIN:VTIMEZONE
TZID:Europe/Berlin
BEGIN:DAYLIGHT
TZOFFSETFROM:+0100
TZOFFSETTO:+0200
TZNAME:CEST
DTSTART:20240331T010000
END:DAYLIGHT
BEGIN:STANDARD
TZOFFSETFROM:+0200
TZOFFSETTO:+0100
TZNAME:CET
DTSTART:20241027T010000
END:STANDARD
BEGIN:DAYLIGHT
TZOFFSETFROM:+0100
TZOFFSETTO:+0200
TZNAME:CEST
DTSTART:20250330T010000
END:DAYLIGHT
BEGIN:STANDARD
TZOFFSETFROM:+0200
TZOFFSETTO:+0100
TZNAME:CET
DTSTART:20251026T010000
END:STANDARD
BEGIN:DAYLIGHT
TZOFFSETFROM:+0100
TZOFFSETTO:+0200
TZNAME:CEST
DTSTART:20260329T010000
END:DAYLIGHT
BEGIN:STANDARD
TZOFFSETFROM:+0200
TZOFFSETTO:+0100
TZNAME:CET
DTSTART:20261025T010000
END:STANDARD
END:VTIMEZONE
BEGIN:VEVENT
DTSTART;TZID=Europe/Berlin:20250305T083000
DTEND;TZID=Europe/Berlin:20250306T123000
DTSTAMP:20260419T213529
CREATED:20230117T075233Z
LAST-MODIFIED:20250107T154934Z
UID:711-1741163400-1741264200@hardt-ranch.de
SUMMARY:Pony-Faschingstage
DESCRIPTION:„Kinder- und Pony-Fasching“ \nHalbtägiges Kinderbetreuungsangebot (8:30 Uhr bis 12:30 Uhr) in den Faschingsferien. \n5. und 6. März 2025 \n28 Euro pro Tag inkl. Verpflegung und Getränke. Tage sind auch einzeln buchbar \n<<Zur Anmeldung>> \nAm besten die Anmeldung ausdrucken\, ausfüllen und bei uns vorbeibringen oder abfotografieren und per WhatsApp an die 01726576387 schicken 🙂 .
URL:https://hardt-ranch.de/termine/pony-faschingstage/
LOCATION:Hardt-Ranch\, Hofwiesenweg 2\, Graben-Neudorf\, 76676\, Deutschland
ATTACH;FMTTYPE=image/jpeg:https://hardt-ranch.de/wp-content/uploads/2024/01/IMG-20231124-WA0002.jpg
ORGANIZER;CN="Carolin Raddant-Zakrzewska":MAILTO:craddant@web.de
END:VEVENT
END:VCALENDAR