BEGIN:VCALENDAR
VERSION:2.0
PRODID:-//Hardt Ranch - ECPv6.15.20//NONSGML v1.0//EN
CALSCALE:GREGORIAN
METHOD:PUBLISH
X-WR-CALNAME:Hardt Ranch
X-ORIGINAL-URL:https://hardt-ranch.de
X-WR-CALDESC:Veranstaltungen für Hardt Ranch
REFRESH-INTERVAL;VALUE=DURATION:PT1H
X-Robots-Tag:noindex
X-PUBLISHED-TTL:PT1H
BEGIN:VTIMEZONE
TZID:Europe/Berlin
BEGIN:DAYLIGHT
TZOFFSETFROM:+0100
TZOFFSETTO:+0200
TZNAME:CEST
DTSTART:20220327T010000
END:DAYLIGHT
BEGIN:STANDARD
TZOFFSETFROM:+0200
TZOFFSETTO:+0100
TZNAME:CET
DTSTART:20221030T010000
END:STANDARD
BEGIN:DAYLIGHT
TZOFFSETFROM:+0100
TZOFFSETTO:+0200
TZNAME:CEST
DTSTART:20230326T010000
END:DAYLIGHT
BEGIN:STANDARD
TZOFFSETFROM:+0200
TZOFFSETTO:+0100
TZNAME:CET
DTSTART:20231029T010000
END:STANDARD
BEGIN:DAYLIGHT
TZOFFSETFROM:+0100
TZOFFSETTO:+0200
TZNAME:CEST
DTSTART:20240331T010000
END:DAYLIGHT
BEGIN:STANDARD
TZOFFSETFROM:+0200
TZOFFSETTO:+0100
TZNAME:CET
DTSTART:20241027T010000
END:STANDARD
END:VTIMEZONE
BEGIN:VEVENT
DTSTART;VALUE=DATE:20230225
DTEND;VALUE=DATE:20230227
DTSTAMP:20260421T120325
CREATED:20230117T084248Z
LAST-MODIFIED:20230118T140133Z
UID:722-1677283200-1677455999@hardt-ranch.de
SUMMARY:1. Block - Longierseminar und Abzeichen (FN)
DESCRIPTION:Block für Teilnehmer mit und ohne Prüfung: 25.-26. Februar 2023\nBlock (nur für die LA5-Abzeichenteilnehmer): 11.-12. März 2023\nBlock mit Prüfung: 18.-19. März 2023\n\nSchulpferde begrenzt vorhanden\, daher bitte rechtzeitig anmelden.Anmeldungen für das LA5 bis spätestens 05.02.2023 möglich! \nZeiteinteilung auf Anfrage bzw. Aushang am schwarzen Brett. \nPreise: \n– Kosten für Longierabzeichen: 290 € inkl. Prüfungsgebühren m. eig. Pferd\no. 340 € m. Schulpferd inkl. Prüfungsgebühren \n-Kosten für Longierseminar: 120\,- € (Kinder)\, 150\,- € (Erwachsene)\,  zzgl. Schulpferdegebühr 20 € \n<< ZUR ANMELDUNG >>
URL:https://hardt-ranch.de/termine/1-block-longierseminar-und-abzeichen-fn/
LOCATION:Hardt-Ranch\, Hofwiesenweg 2\, Graben-Neudorf\, 76676\, Deutschland
ATTACH;FMTTYPE=image/jpeg:https://hardt-ranch.de/wp-content/uploads/2023/01/Longierabzeichen.jpg
ORGANIZER;CN="Carolin Raddant-Zakrzewska":MAILTO:craddant@web.de
END:VEVENT
END:VCALENDAR