BEGIN:VCALENDAR
VERSION:2.0
PRODID:-//Hardt Ranch - ECPv6.15.20//NONSGML v1.0//EN
CALSCALE:GREGORIAN
METHOD:PUBLISH
X-WR-CALNAME:Hardt Ranch
X-ORIGINAL-URL:https://hardt-ranch.de
X-WR-CALDESC:Veranstaltungen für Hardt Ranch
REFRESH-INTERVAL;VALUE=DURATION:PT1H
X-Robots-Tag:noindex
X-PUBLISHED-TTL:PT1H
BEGIN:VTIMEZONE
TZID:Europe/Berlin
BEGIN:DAYLIGHT
TZOFFSETFROM:+0100
TZOFFSETTO:+0200
TZNAME:CEST
DTSTART:20230326T010000
END:DAYLIGHT
BEGIN:STANDARD
TZOFFSETFROM:+0200
TZOFFSETTO:+0100
TZNAME:CET
DTSTART:20231029T010000
END:STANDARD
BEGIN:DAYLIGHT
TZOFFSETFROM:+0100
TZOFFSETTO:+0200
TZNAME:CEST
DTSTART:20240331T010000
END:DAYLIGHT
BEGIN:STANDARD
TZOFFSETFROM:+0200
TZOFFSETTO:+0100
TZNAME:CET
DTSTART:20241027T010000
END:STANDARD
BEGIN:DAYLIGHT
TZOFFSETFROM:+0100
TZOFFSETTO:+0200
TZNAME:CEST
DTSTART:20250330T010000
END:DAYLIGHT
BEGIN:STANDARD
TZOFFSETFROM:+0200
TZOFFSETTO:+0100
TZNAME:CET
DTSTART:20251026T010000
END:STANDARD
END:VTIMEZONE
BEGIN:VEVENT
DTSTART;TZID=Europe/Berlin:20241028T080000
DTEND;TZID=Europe/Berlin:20241101T170000
DTSTAMP:20260420T024350
CREATED:20240108T120448Z
LAST-MODIFIED:20240927T154251Z
UID:794-1730102400-1730480400@hardt-ranch.de
SUMMARY:Weihnachtsmärchenprobenwoche
DESCRIPTION:Auch dieses Jahr wollen wir die Herbstferien dafür nutzen\, das Weihnachtsmärchen vorzubereiten. Dieses Angebot richtet sich an unsere Reitschüler. \nNachdem das Bibi und Tina Weihnachtsmärchen letztes Jahr super ankam\, werden wir uns auch in diesem Jahr ein Weihnachtsmärchen mit vielen verschiedenen Aufführungen einfallen lassen. \nWer schon immer mal mit dem Pferd in eine andere Rolle schlüpfen wollte ist hier genau richtig! \n28.10.24 – 01.11.24 je von 14 Uhr bis 17 Uhr \n30€ pro Tag inkl. Verpflegung \nANMELDUNG BIS SPÄTESTENS 18.10.24 \nDie Aufführung des Weihanchtsmärchens wird im Rahmen einer Weihnachtsfeier am 22. Dezember stattfinden. Zwischen den Herbstferien und der Weihnachtsfeier wird es zusätzlich an 2-3 Wochenden noch Proben geben\, damit niemand etwas vergisst ;).
URL:https://hardt-ranch.de/termine/weihnachtsmaerchen/
LOCATION:Hardt-Ranch\, Hofwiesenweg 2\, Graben-Neudorf\, 76676\, Deutschland
ATTACH;FMTTYPE=image/jpeg:https://hardt-ranch.de/wp-content/uploads/2022/09/Stallweihnacht-2018-Hardt-Ranch2-scaled.jpg
ORGANIZER;CN="Carolin Raddant-Zakrzewska":MAILTO:craddant@web.de
END:VEVENT
BEGIN:VEVENT
DTSTART;TZID=Europe/Berlin:20241102T080000
DTEND;TZID=Europe/Berlin:20241103T170000
DTSTAMP:20260420T024350
CREATED:20240927T161951Z
LAST-MODIFIED:20241007T110307Z
UID:920-1730534400-1730653200@hardt-ranch.de
SUMMARY:Bodenarbeitsseminar
DESCRIPTION:Am 02. und 03. November 2024 findet ein Bodenarbeitsseminar statt. \nAm Samstag starten wir mit Theorie. Wir tauchen in die Welt der Pferdkommunikation ein und versuchen herauszufinden wie dieses Verständnis die Kommunikation zwischen Mensch und Pferd verbessern kann. \nAm Nachmittag wird das Gelernte dann nocheinmal am Pferd demonstriert und die Teilnehmer dürfen erste praktische Übungen durchführen. \nAm Sonntag werden die Teilnehmer in 2er Gruppen eingeteilt und arbeiten selbst mit einem Pferd. \nWer nur an der Theorie (Samstag) teilnehmen möchte\, kann dies tun\, da wir hier etwas mehr Kapazitäten haben. Die Teilnahme am Praxistag (Sonntag) bedingt allerdings die Teilnahme am Theorietag. \nDie Kosten für den Theorietag belaufen sich auf 150€ pro Teilnehmer. Der Praxistag kostet zusätzlich 50€. \nDen Zeitplan findet ihr hier unten. Wer sich anmelden möchte\, trägt sich selbst am schwarzen Brett ein oder meldet sich bei Carolin unter der +49 172 6576387. Wer zuerst kommt malt zuerst ;). Zusätzlich können wir auch gerne noch separate Praxistermine vereinbaren\, falls ihr an dem Sonntag keine Zeit habt\, oder dort keine Kapazität mehr ist. \nSchulpferde\, sowie Boxen für Gastpferde stehen auf Anfrage begrenzt zur Verfügung 🙂 \nWir freuen uns auf euch!
URL:https://hardt-ranch.de/termine/bodenarbeitsseminar/
ATTACH;FMTTYPE=image/jpeg:https://hardt-ranch.de/wp-content/uploads/2022/09/Bodenarbeitseminar4.jpg
END:VEVENT
BEGIN:VEVENT
DTSTART;TZID=Europe/Berlin:20241123T080000
DTEND;TZID=Europe/Berlin:20241124T170000
DTSTAMP:20260420T024350
CREATED:20240927T162417Z
LAST-MODIFIED:20240927T162537Z
UID:923-1732348800-1732467600@hardt-ranch.de
SUMMARY:Allround Seminar
DESCRIPTION:Am 23. und 24. November findet ein Allround Seminar unter der Leitung von Carolin Raddant-Zakrzewska statt. \nSchulpferde und Boxen für Gastpferde stehen auf Anfrage begrenzt zur Verfügung.
URL:https://hardt-ranch.de/termine/allround-seminar/
ATTACH;FMTTYPE=image/jpeg:https://hardt-ranch.de/wp-content/uploads/2022/09/Kazamms-Kachina3-scaled.jpg
END:VEVENT
END:VCALENDAR