BEGIN:VCALENDAR
VERSION:2.0
PRODID:-//Hardt Ranch - ECPv6.15.20//NONSGML v1.0//EN
CALSCALE:GREGORIAN
METHOD:PUBLISH
X-ORIGINAL-URL:https://hardt-ranch.de
X-WR-CALDESC:Veranstaltungen für Hardt Ranch
REFRESH-INTERVAL;VALUE=DURATION:PT1H
X-Robots-Tag:noindex
X-PUBLISHED-TTL:PT1H
BEGIN:VTIMEZONE
TZID:Europe/Berlin
BEGIN:DAYLIGHT
TZOFFSETFROM:+0100
TZOFFSETTO:+0200
TZNAME:CEST
DTSTART:20230326T010000
END:DAYLIGHT
BEGIN:STANDARD
TZOFFSETFROM:+0200
TZOFFSETTO:+0100
TZNAME:CET
DTSTART:20231029T010000
END:STANDARD
BEGIN:DAYLIGHT
TZOFFSETFROM:+0100
TZOFFSETTO:+0200
TZNAME:CEST
DTSTART:20240331T010000
END:DAYLIGHT
BEGIN:STANDARD
TZOFFSETFROM:+0200
TZOFFSETTO:+0100
TZNAME:CET
DTSTART:20241027T010000
END:STANDARD
BEGIN:DAYLIGHT
TZOFFSETFROM:+0100
TZOFFSETTO:+0200
TZNAME:CEST
DTSTART:20250330T010000
END:DAYLIGHT
BEGIN:STANDARD
TZOFFSETFROM:+0200
TZOFFSETTO:+0100
TZNAME:CET
DTSTART:20251026T010000
END:STANDARD
END:VTIMEZONE
BEGIN:VEVENT
DTSTART;TZID=Europe/Berlin:20241012T080000
DTEND;TZID=Europe/Berlin:20241013T170000
DTSTAMP:20260420T075828
CREATED:20240927T155327Z
LAST-MODIFIED:20240927T155617Z
UID:913-1728720000-1728838800@hardt-ranch.de
SUMMARY:Trail - Seminar
DESCRIPTION:Am Wochenende des 12. & 13. Oktobers wird ein Trailkurs unter der Leitung von Carolin Raddant-Zakrzewska stattfinden. \nDie Teilnehmer werden in 3 Gruppen aufgeteilt: Trail in Hand\, Anfänger\, Fortgeschrittene\, so ist für jeden Kenntnisstand etwas dabei. \nDen Zeitplan und die Preise findet ihr unten. \nBitte prüft vor eurer Anmeldung\, ob in der entsprechenden Gruppe noch Platz ist (Nachfrage bei Carolin oder im Stall am schwarzen Brett 😉   ). \nSchulpferde sind begrenzt vorhanden (bitte vorher anfragen). Ebenso haben wir auf Anfrage Gastboxen für Gastpferde.
URL:https://hardt-ranch.de/termine/trail-seminar/
ATTACH;FMTTYPE=image/jpeg:https://hardt-ranch.de/wp-content/uploads/2022/09/Trail-Seminar6.jpg
END:VEVENT
END:VCALENDAR