BEGIN:VCALENDAR
VERSION:2.0
PRODID:-//Hardt Ranch - ECPv6.15.20//NONSGML v1.0//EN
CALSCALE:GREGORIAN
METHOD:PUBLISH
X-ORIGINAL-URL:https://hardt-ranch.de
X-WR-CALDESC:Veranstaltungen für Hardt Ranch
REFRESH-INTERVAL;VALUE=DURATION:PT1H
X-Robots-Tag:noindex
X-PUBLISHED-TTL:PT1H
BEGIN:VTIMEZONE
TZID:Europe/Berlin
BEGIN:DAYLIGHT
TZOFFSETFROM:+0100
TZOFFSETTO:+0200
TZNAME:CEST
DTSTART:20220327T010000
END:DAYLIGHT
BEGIN:STANDARD
TZOFFSETFROM:+0200
TZOFFSETTO:+0100
TZNAME:CET
DTSTART:20221030T010000
END:STANDARD
BEGIN:DAYLIGHT
TZOFFSETFROM:+0100
TZOFFSETTO:+0200
TZNAME:CEST
DTSTART:20230326T010000
END:DAYLIGHT
BEGIN:STANDARD
TZOFFSETFROM:+0200
TZOFFSETTO:+0100
TZNAME:CET
DTSTART:20231029T010000
END:STANDARD
BEGIN:DAYLIGHT
TZOFFSETFROM:+0100
TZOFFSETTO:+0200
TZNAME:CEST
DTSTART:20240331T010000
END:DAYLIGHT
BEGIN:STANDARD
TZOFFSETFROM:+0200
TZOFFSETTO:+0100
TZNAME:CET
DTSTART:20241027T010000
END:STANDARD
END:VTIMEZONE
BEGIN:VEVENT
DTSTART;VALUE=DATE:20230407
DTEND;VALUE=DATE:20230410
DTSTAMP:20260421T142522
CREATED:20230117T085311Z
LAST-MODIFIED:20230118T140746Z
UID:726-1680825600-1681084799@hardt-ranch.de
SUMMARY:Trainerassisten-Seminar mit Prüfung (EWU)
DESCRIPTION:Seminar\n7. bis 9. April\, 15. April \n\n7. April: 10 – 18 Uhr\n8. April: 9-18 Uhr\n9. April: 9-17 Uhr\n15. April: 10-18 Uhr\n\nPrüfung\n16. April \n<< ZUR ANMELDUNG >> \n<<Formular zur Beantragung des Führungszeugnisses>>
URL:https://hardt-ranch.de/termine/trainerassisten-seminar-mit-pruefung-ewu/
LOCATION:Hardt-Ranch\, Hofwiesenweg 2\, Graben-Neudorf\, 76676\, Deutschland
ATTACH;FMTTYPE=image/jpeg:https://hardt-ranch.de/wp-content/uploads/2023/01/Trainerassistent_2.jpg
ORGANIZER;CN="Carolin Raddant-Zakrzewska":MAILTO:craddant@web.de
END:VEVENT
END:VCALENDAR